Workbook

Sheet MembrosCPI
A1: MembroCPI_Id | B1: MembroCPI_Nome | C1: MembroCPI_Partido | D1: MembroCPI_UF | E1: MembroCPI_Cargo | F1: PosicaoGoverno | G1: Ideologia
A2: 1 | B2: Omar Aziz | C2: PSD | D2: AM | E2: Presidente | F2: Oposição | G2: Direita
A3: 2 | B3: Randolfe Rodrigues | C3: REDE | D3: AP | E3: Vice-Presidente | F3: Oposição | G3: Esquerda
A4: 3 | B4: Renan Calheiros | C4: MDB | D4: AL | E4: Relator | F4: Oposição | G4: Centro
A5: 4 | B5: Eduardo Braga | C5: MDB | D5: AM | E5: Titular | F5: Oposição | G5: Centro
A6: 5 | B6: Luis Carlos Heinze | C6: PP | D6: RS | E6: Titular | F6: Governo | G6: Direita
A7: 6 | B7: Eduardo Girão | C7: PODEMOS | D7: CE | E7: Titular | F7: Governo | G7: Direita
A8: 7 | B8: Tasso Jereissati | C8: PSDB | D8: CE | E8: Titular | F8: Oposição | G8: Centro
A9: 8 | B9: Otto Alencar | C9: PSD | D9: BA | E9: Titular | F9: Oposição | G9: Direita
A10: 9 | B10: Marcos Rogério | C10: DEM | D10: RO | E10: Titular | F10: Governo | G10: Direita
A11: 10 | B11: Jorginho Mello | C11: PL | D11: SC | E11: Titular | F11: Governo | G11: Direita
A12: 11 | B12: Humberto Costa | C12: PT | D12: PE | E12: Titular | F12: Oposição | G12: Esquerda
A13: 12 | B13: Jader Barbalho | C13: MDB | D13: PA | E13: Suplente | F13: Oposição | G13: Centro
... A19: 18 | B19: Alessandro Vieira | C19: CIDADANIA | D19: SE | E19: Suplente | F19: Oposição | G19: Esquerda

Sheet SessoesCPI
A1: SessaoCPI_Id | B1: SessaoCPI_Numero | C1: SessaoCPI_Sitacao | D1: SessaoCPI_Modalidade | E1: SessaoCPI_Data | F1: SessaoCPI_HoraInicio | G1: SessaoCPI_HoraFim | H1: SessaoCPI_Duracao
A2: 1 | B2: 1 | C2: Realizada | D2: Semipresencial | E2: 44313 | F2: 0.41736111 | G2: 0.59236111 | H2: =G2-F2 -> 0.175
A3: 2 | B3: 2 | C3: Realizada | D3: Semipresencial | E3: 44315 | F3: 0.39375 | G3: 0.48680556 | H3: =G3-F3 -> 0.093055556
A4: 3 | B4: 3 | C4: Realizada | D4: Semipresencial | E4: 44320 | F4: 0.43125 | G4: 0.76805556 | H4: =G4-F4 -> 0.33680556 | L4: Sessão mais curta: | M4: =MIN(H:H) -> 0.0041666667
A5: 4 | B5: 4 | C5: Realizada | D5: Semipresencial | E5: 44321 | F5: 0.43125 | G5: 0.69305556 | H5: =G5-F5 -> 0.26180556 | L5: Sessão mais longa: | M5: =MAX(H:H) -> 0.43194444
A6: 5 | B6: 5 | C6: Realizada | D6: Normal | E6: 44322 | F6: 0.42361111 | G6: 0.85555556 | H6: =G6-F6 -> 0.43194444 | L6: Média das sessões: | M6: =MEDIAN(H:H) -> 0.27534722
A7: 6 | B7: 6 | C7: Realizada | D7: Semipresencial | E7: 44327 | F7: 0.43125 | G7: 0.61041667 | H7: =G7-F7 -> 0.17916667
A8: 7 | B8: 7 | C8: Realizada | D8: Semipresencial | E8: 44328 | F8: 0.39166667 | G8: 0.82361111 | H8: =G8-F8 -> 0.43194444
A9: 8 | B9: 8 | C9: Realizada | D9: Semipresencial | E9: 44329 | F9: 0.40416667 | G9: 0.66805556 | H9: =G9-F9 -> 0.26388889
A10: 9 | B10: 9 | C10: Realizada | D10: Semipresencial | E10: 44334 | F10: 0.39027778 | G10: 0.70138889 | H10: =G10-F10 -> 0.31111111
A11: 10 | B11: 10 | C11: Realizada | D11: Semipresencial | E11: 44335 | F11: 0.38402778 | G11: 0.71666667 | H11: =G11-F11 -> 0.33263889
A12: 11 | B12: 11 | C12: Adiada | D12: Semipresencial | E12: 44336 | F12: NA | G12: NA | H12: NA
A13: 12 | B13: 10 | C13: Realizada | D13: Semipresencial | E13: 44336 | F13: 0.40694444 | G13: 0.7125 | H13: =G13-F13 -> 0.30555556
A14: 13 | B14: 11 | C14: Realizada | D14: Semipresencial | E14: 44341 | F14: 0.40486111 | G14: 0.62430556 | H14: =G14-F14 -> 0.21944444
A15: 14 | B15: 12 | C15: Realizada | D15: Semipresencial | E15: 44342 | F15: 0.42569444 | G15: 0.53125 | H15: =G15-F15 -> 0.10555556
A16: 15 | B16: 13 | C16: Realizada | D16: Semipresencial | E16: 44343 | F16: 0.41111111 | G16: 0.69652778 | H16: =G16-F16 -> 0.28541667
A17: 16 | B17: 14 | C17: Realizada | D17: Semipresencial | E17: 44348 | F17: 0.40277778 | G17: 0.72430556 | H17: =G17-F17 -> 0.32152778
A18: 17 | B18: 15 | C18: Adiada | D18: Normal | E18: 44349 | F18: NA | G18: NA | H18: NA
A19: 18 | B19: 15 | C19: Realizada | D19: Semipresencial | E19: 44349 | F19: 0.40277778 | G19: 0.70972222 | H19: =G19-F19 -> 0.30694444
A20: 19 | B20: 16 | C20: Realizada | D20: Semipresencial | E20: 44355 | F20: 0.39513889 | G20: 0.75069444 | H20: =G20-F20 -> 0.35555556
A21: 20 | B21: 17 | C21: Realizada | D21: Semipresencial | E21: 44356 | F21: 0.40277778 | G21: 0.78819444 | H21: =G21-F21 -> 0.38541667
A22: 21 | B22: 18 | C22: Realizada | D22: Semipresencial | E22: 44357 | F22: 0.42430556 | G22: 0.47916667 | H22: =G22-F22 -> 0.054861111
A23: 22 | B23: 19 | C23: Realizada | D23: Semipresencial | E23: 44358 | F23: 0.40555556 | G23: 0.74375 | H23: =G23-F23 -> 0.33819444
A24: 23 | B24: 20 | C24: Realizada | D24: Semipresencial | E24: 44362 | F24: 0.40833333 | G24: 0.72916667 | H24: =G24-F24 -> 0.32083333
A25: 24 | B25: 21 | C25: Realizada | D25: Semipresencial | E25: 44363 | F25: 0.40347222 | G25: 0.59097222 | H25: =G25-F25 -> 0.1875
A26: 25 | B26: 22 | C26: Realizada | D26: Semipresencial | E26: 44364 | F26: 0.40902778 | G26: 0.41666667 | H26: =G26-F26 -> 0.0076388889
A27: 26 | B27: 23 | C27: Realizada | D27: Semipresencial | E27: 44365 | F27: 0.39305556 | G27: 0.72986111 | H27: =G27-F27 -> 0.33680556
A28: 27 | B28: 24 | C28: Realizada | D28: Semipresencial | E28: 44369 | F28: 0.39791667 | G28: 0.77847222 | H28: =G28-F28 -> 0.38055556
A29: 28 | B29: 25 | C29: Realizada | D29: Semipresencial | E29: 44370 | F29: 0.41875 | G29: 0.46458333 | H29: =G29-F29 -> 0.045833333
A30: 29 | B30: 26 | C30: Realizada | D30: Semipresencial | E30: 44371 | F30: 0.41597222 | G30: 0.73541667 | H30: =G30-F30 -> 0.31944444
... A34: 33 | B34: 30 | C34: Realizada | D34: Semipresencial | E34: 44378 | F34: 0.42361111 | G34: 0.71736111 | H34: =G34-F34 -> 0.29375
A35: 34 | B35: 31 | C35: Cancelada | D35: Semipresencial | E35: 44379 | F35: NA | G35: NA | H35: NA
A36: 35 | B36: 31 | C36: Realizada | D36: Semipresencial | E36: 44383 | F36: 0.4125 | G36: 0.71388889 | H36: =G36-F36 -> 0.30138889
A37: 36 | B37: 32 | C37: Realizada | D37: Semipresencial | E37: 44384 | F37: 0.40694444 | G37: 0.74375 | H37: =G37-F37 -> 0.33680556
A38: 37 | B38: 33 | C38: Realizada | D38: Semipresencial | E38: 44385 | F38: 0.425 | G38: 0.68472222 | H38: =G38-F38 -> 0.25972222
A39: 38 | B39: 34 | C39: Realizada | D39: Semipresencial | E39: 44386 | F39: 0.43055556 | G39: 0.63194444 | H39: =G39-F39 -> 0.20138889
A40: 39 | B40: 35 | C40: Realizada | D40: Semipresencial | E40: 44390 | F40: 0.43333333 | G40: 0.83680556 | H40: =G40-F40 -> 0.40347222
A41: 40 | B41: 36 | C41: Realizada | D41: Semipresencial | E41: 44391 | F41: 0.41875 | G41: 0.69861111 | H41: =G41-F41 -> 0.27986111
A42: 41 | B42: 37 | C42: Realizada | D42: Semipresencial | E42: 44392 | F42: 0.41944444 | G42: 0.69861111 | H42: =G42-F42 -> 0.27916667
A43: 42 | B43: 38 | C43: Realizada | D43: Semipresencial | E43: 44411 | F43: 0.40833333 | G43: 0.78055556 | H43: =G43-F43 -> 0.37222222
...

Sheet DocumentosCPI
A1: DocCPI_Id | B1: DocCPI_Data | C1: DocCPI_Nome | D1: DocCPI_Ementa | E1: DocCPI_FormatoMaterial | F1: DocCPI_Tipo | G1: DocCPI_Arquivo | H1: DocCPI_Pasta | I1: DocCPI_Link | J1: DocCPI_ParentLink | K1: DocCPI_LinkAcessDate
A2: 1 | B2: 44211 | C2: Requerimento N° 1371, DE 2021 | D2: Criação de CPI para apurar as ações e omissões do Governo Federal no enfrentamento da pandemia da Covid-19 no Brasil e, em especial, no agravamento da crise sanitária no Amazonas com a ausência de oxigênio para os pacientes internados. | E2: Texto | F2: Requerimento | G2: 2021-01-15 - DOC-RQS 13712021-20210118.pdf | I2: https://legis.senado.leg.br/sdleg-getter/documento?dm=8951652&ts=1637089412690&disposition=inline | J2: https://www25.senado.leg.br/web/atividade/materias/-/materia/148070 | K2: 44858
A3: 2 | B3: 44211 | C3: Requerimento N° 1371, DE 2021 (avulso inicial da Matéria) | D3: Criação de CPI para apurar as ações e omissões do Governo Federal no enfrentamento da pandemia da Covid-19 no Brasil e, em especial, no agravamento da crise sanitária no Amazonas com a ausência de oxigênio para os pacientes internados. | E3: Texto | F3: Requerimento | G3: 2021-01-15 - DOC-RQS _ Avulso inicial da matéria.pdf | H3: Documentos/Requerimentos/ | I3: https://legis.senado.leg.br/sdleg-getter/documento?dm=8951652&ts=1637089412690&disposition=inline | J3: https://www25.senado.leg.br/web/atividade/materias/-/materia/148070 | K3: 44858
A4: 3 | B4: 44495 | C4: Relatório Final - Comissão Parlamentar de Inquérito da Pandemia (Instituída pelos Requerimentos nos 1.371 e 1.372, de 2021) | D4: Instituída pelos Requerimentos nos 1.371 e 1.372, de 2021, com a finalidade de apurar, no prazo de 90 dias, as ações e omissões do Governo Federal no enfrentamento da Pandemia da Covid-19 no Brasil e, em especial, no agravamento da crise sanitária no Amazonas com a ausência de oxigênio para os pacientes internados; e as possíveis irregularidades em contratos, fraudes em licitações, superfaturamentos, desvio de recursos públicos, assinatura de contratos com empresas de fachada para prestação de serviços genéricos ou fictícios, entre outros ilícitos, se valendo para isso de recursos originados da União Federal, bem como outras ações ou omissões cometidas por administradores públicos federais, estaduais e municipais, no trato com a coisa pública, durante a vigência da calamidade originada pela Pandemia do Coronavírus "SARS-CoV-2", limitado apenas quanto à fiscalização dos recursos da União repassados aos demais entes federados para as ações de prevenção e combate à Pandemia da Covid-19, e excluindo as matérias de competência constitucional atribuídas aos Estados, Distrito Federal e Municípios. Relatório votado em 26 de outubro de 2021. | E4: Texto | F4: Relatório | G4: 2021-10-26 - Relatorio_Final 26102021 III.pdf | H4: Documentos/Relatórios/ | I4: https://legis.senado.leg.br/sdleg-getter/documento/download/fc73ab53-3220-4779-850c-f53408ecd592 | J4: https://legis.senado.leg.br/comissoes/mnas?codcol=2441&tp=4 | K4: 44858
A5: 4 | B5: 44313 | C5: RESULTADO 1ª Reunião - Semipresencial CPI DA PANDEMIA - CPIPANDEMIA | D5: Resultado: Realizada instalação e eleição do Presidente, Senador Omar Aziz, do Vice- Presidente, Senador Randolfe Rodrigues e designado relator, Senador Renan Calheiros. Endereço na Internet: http://www.senado.leg.br/atividade/comissoes/default.asp?origem=SF Informações: Secretaria-Geral da Mesa - Secretaria de Comissões Documento gerado | E5: Texto | F5: Resultado | G5: 2021-04-27 - CPIPANDEMIA Resultado.pdf | H5: Documentos/DocsSessoes/2021-04-27_1aReuniao/ | I5: https://legis.senado.leg.br/sdleg-getter/documento/download/1ce15620-c5a9-4e89-a896-8632e73235b1 | J5: https://legis.senado.leg.br/comissoes/comissao?codcol=2441&data1=2021-01-01&data2=2022-11-24 | K5: 44858
A6: 5 | B6: 44313 | C6: ATA DA 1ª REUNIÃO DA CPI DA PANDEMIA | D6: ATA DA 1ª REUNIÃO DA CPI DA PANDEMIA DA 3ª SESSÃO LEGISLATIVA ORDINÁRIA DA 56ª LEGISLATURA, REALIZADA EM 27 DE ABRIL DE 2021, TERÇA-FEIRA, NO SENADO FEDERAL, ANEXO II, ALA SENADOR ALEXANDRE COSTA, PLENÁRIO Nº 3. | E6: Texto | F6: Ata e Notas Taquigráficas | G6: 2021-04-27 - KComissaoCPIComissaoCPIPANDEMIAAta20210427REU001.docx | H6: Documentos/DocsSessoes/2021-04-27_1aReuniao/ | I6: https://legis.senado.leg.br/sdleg-getter/documento/download/b9f300b9-3243-4713-b41a-967c9e27e2bc | J6: https://legis.senado.leg.br/comissoes/comissao?codcol=2441&data1=2021-01-01&data2=2022-11-24 | K6: 44858
A7: 6 | B7: 44313 | C7: PAUTA 1ª Reunião - Semipresencial CPI DA PANDEMIA - CPIPANDEMIA | D7: Assunto / Finalidade: Instalação e eleição para os cargos de Presidente e Vice-Presidente. | E7: Texto | F7: Convocação | G7: 2021-04-27 - KComissaoCPIComissaoCPIPANDEMIAConvocao20210427REU001.pdf | H7: Documentos/DocsSessoes/2021-04-27_1aReuniao/ | I7: https://legis.senado.leg.br/sdleg-getter/documento/download/b975a0a6-d0df-43f6-9729-2227eb9572f7 | J7: https://legis.senado.leg.br/comissoes/comissao?codcol=2441&data1=2021-01-01&data2=2022-11-24 | K7: 44858
A8: 7 | B8: 44313 | C8: PAUTA 1ª Reunião - Semipresencial CPI DA PANDEMIA - CPIPANDEMIA | D8: Assunto / Finalidade: Instalação e eleição para os cargos de Presidente e Vice-Presidente. | E8: Texto | F8: Pauta Cheia | G8: 2021-04-27 - Pauta_Cheia_2021_001_Reunio_CPIPANDEMIA_9956.pdf | H8: Documentos/DocsSessoes/2021-04-27_1aReuniao/ | I8: https://legis.senado.leg.br/sdleg-getter/documento/download/7b7e7654-7ef9-4941-82cb-f309ad5b6d52 | J8: https://legis.senado.leg.br/comissoes/comissao?codcol=2441&data1=2021-01-01&data2=2022-11-24 | K8: 44858
A9: 8 | B9: 44315 | C9: ATA DA 2ª REUNIÃO DA CPI DA PANDEMIA | D9: ATA DA 2ª REUNIÃO DA CPI DA PANDEMIA DA 3ª SESSÃO LEGISLATIVA ORDINÁRIA DA 56ª LEGISLATURA, REALIZADA EM 29 DE ABRIL DE 2021, QUINTA-FEIRA, NO SENADO FEDERAL, ANEXO II, ALA SENADOR ALEXANDRE COSTA, PLENÁRIO Nº 3. | E9: Texto | F9: Ata e Notas Taquigráficas | G9: 2021-04-29 - KComissaoCPIComissaoCPIPANDEMIAAta20210429REU002.docx | H9: Documentos/DocsSessoes/2021-04-29_2aReuniao/ | I9: https://legis.senado.leg.br/sdleg-getter/documento/download/c4ba6d20-1390-4c92-8c2b-01c0b7c759c9 | J9: https://legis.senado.leg.br/comissoes/comissao?codcol=2441&data1=2021-01-01&data2=2022-11-24 | K9: 44858
A10: 9 | B10: 44315 | C10: PAUTA 2ª Reunião | D10: Finalidade: Apreciação do Plano de Trabalho e Requerimentos. Endereço na | E10: Texto | F10: Convocação | G10: 2021-04-29 - KComissaoCPIComissaoCPIPANDEMIAConvocao20210429REU002.pdf | H10: Documentos/DocsSessoes/2021-04-29_2aReuniao/ | I10: https://legis.senado.leg.br/sdleg-getter/documento/download/b8bbb867-e36a-490d-a8a7-5dc8c9ac7071 | J10: https://legis.senado.leg.br/comissoes/comissao?codcol=2441&data1=2021-01-01&data2=2022-11-24 | K10: 44858
A11: 10 | B11: 44315 | C11: RESULTADO 2ª Reunião | D11: NA | E11: Texto | F11: Resultado | G11: 2021-04-29 - KComissaoCPIComissaoCPIPANDEMIARelatriodeComissotemporriaSubcomisso20210429REU002.pdf | H11: Documentos/DocsSessoes/2021-04-29_2aReuniao/ | I11: https://legis.senado.leg.br/sdleg-getter/documento/download/9f42ac7f-50ac-405f-9609-0705daf1defb | J11: https://legis.senado.leg.br/comissoes/comissao?codcol=2441&data1=2021-01-01&data2=2022-11-24 | K11: 44858
A12: 11 | B12: 44315 | C12: Notas Taquigráficas - Comissões 29/04/2021 - 2ª - CPI da Pandemia | D12: NA | E12: Texto | F12: Ata e Notas Taquigráficas | G12: 2021-05-04 - KComissaoCPIComissaoCPIPANDEMIAAta20210504REU003.docx | H12: Documentos/DocsSessoes/ | I12: https://legis.senado.leg.br/sdleg-getter/documento/download/c4ba6d20-1390-4c92-8c2b-01c0b7c759c9 | J12: https://legis.senado.leg.br/comissoes/comissao?codcol=2441&data1=2021-01-01&data2=2022-11-24 | K12: 44858
A13: 12 | B13: 44315 | C13: PAUTA 2ª Reunião - Semipresencial | D13: NA | E13: Texto | F13: Convocação | G13: 2021-05-04 - KComissaoCPIComissaoCPIPANDEMIAConvocao20210504REU003.pdf | H13: Documentos/DocsSessoes/ | I13: https://legis.senado.leg.br/sdleg-getter/documento/download/b8bbb867-e36a-490d-a8a7-5dc8c9ac7071 | J13: https://legis.senado.leg.br/comissoes/comissao?codcol=2441&data1=2021-01-01&data2=2022-11-24 | K13: 44858
A14: 13 | B14: 44320 | C14: ATA DA 3ª REUNIÃO DA CPI DA PANDEMIA | D14: NA | E14: Texto | F14: Ata e Notas Taquigráficas | G14: 2021-05-04 - KComissaoCPIComissaoCPIPANDEMIAAta20210504REU003.docx | H14: Documentos/DocsSessoes/2021-05-04_3aReuniao/ | I14: https://legis.senado.leg.br/sdleg-getter/documento/download/17f9aa5c-c1e5-40bf-9b7d-0845cf39980d | J14: https://legis.senado.leg.br/comissoes/comissao?codcol=2441&data1=2021-01-01&data2=2022-11-24 | K14: 44858
... A397: 396 | B397: 44272 | C397: RQS 1372/2021 | D397: NA | E397: Texto | F397: Requerimento | G397: 2021-03-17 - DSF 2021-04-13, pgs 343-344 - RQS n1372-2021.pdf | H397: Documentos/Requerimentos/ | I397: https://legis.senado.leg.br/diarios/ver/106430?sequencia=343 | J397: https://www25.senado.leg.br/web/atividade/materias/-/materia/148071 | K397: 44858
A398: 397 | B398: 44272 | C398: RQS 1069/2021 | D398: NA | E398: Texto | F398: Requerimento | G398: 2021-03-17 - DSF 2021-04-13, pgs 345-346 - RQS n1069-2021.pdf | I398: https://legis.senado.leg.br/diarios/ver/106430?sequencia=345
A399: 398 | B399: 44271 | C399: RQS 1076/2021 | G399: 2021-03-16 - DSF 2021-04-13, pgs 347-348 - RQS n1076-2021.pdf

Sheet SessoesCPI_DocumentosCPI
A1: DocCPI_Id | B1: SessaoCPI_Id | C1: SessaoCPI_Data | D1: SessaoCPI_Numero | E1: DocCPI_Tipo
A2: 4 | B2: 1 | C2: =VLOOKUP(B2,SessoesCPI!A:E,5) -> 44313 | D2: =VLOOKUP(B2,SessoesCPI!A:E,2) -> 1 | E2: =VLOOKUP(A2,DocumentosCPI!A:F,6) -> Resultado
A3: 5 | B3: 1 | C3: =VLOOKUP(B3,SessoesCPI!A:E,5) -> 44313 | D3: =VLOOKUP(B3,SessoesCPI!A:E,2) -> 1 | E3: =VLOOKUP(A3,DocumentosCPI!A:F,6) -> Ata e Notas Taquigráficas
A4: 6 | B4: 1 | C4: =VLOOKUP(B4,SessoesCPI!A:E,5) -> 44313 | D4: =VLOOKUP(B4,SessoesCPI!A:E,2) -> 1 | E4: =VLOOKUP(A4,DocumentosCPI!A:F,6) -> Convocação
A5: 7 | B5: 1 | C5: =VLOOKUP(B5,SessoesCPI!A:E,5) -> 44313 | D5: =VLOOKUP(B5,SessoesCPI!A:E,2) -> 1 | E5: =VLOOKUP(A5,DocumentosCPI!A:F,6) -> Pauta Cheia
A6: 8 | B6: 2 | C6: =VLOOKUP(B6,SessoesCPI!A:E,5) -> 44315 | D6: =VLOOKUP(B6,SessoesCPI!A:E,2) -> 2 | E6: =VLOOKUP(A6,DocumentosCPI!A:F,6) -> Ata e Notas Taquigráficas
A7: 9 | B7: 2 | C7: =VLOOKUP(B7,SessoesCPI!A:E,5) -> 44315 | D7: =VLOOKUP(B7,SessoesCPI!A:E,2) -> 2 | E7: =VLOOKUP(A7,DocumentosCPI!A:F,6) -> Convocação
A8: 10 | B8: 2 | C8: =VLOOKUP(B8,SessoesCPI!A:E,5) -> 44315 | D8: =VLOOKUP(B8,SessoesCPI!A:E,2) -> 2 | E8: =VLOOKUP(A8,DocumentosCPI!A:F,6) -> Resultado
A9: 11 | B9: 2 | C9: =VLOOKUP(B9,SessoesCPI!A:E,5) -> 44315 | D9: =VLOOKUP(B9,SessoesCPI!A:E,2) -> 2 | E9: =VLOOKUP(A9,DocumentosCPI!A:F,6) -> Ata e Notas Taquigráficas
A10: 12 | B10: 2 | C10: =VLOOKUP(B10,SessoesCPI!A:E,5) -> 44315 | D10: =VLOOKUP(B10,SessoesCPI!A:E,2) -> 2 | E10: =VLOOKUP(A10,DocumentosCPI!A:F,6) -> Convocação
A11: 13 | B11: 3 | C11: =VLOOKUP(B11,SessoesCPI!A:E,5) -> 44320 | D11: =VLOOKUP(B11,SessoesCPI!A:E,2) -> 3 | E11: =VLOOKUP(A11,DocumentosCPI!A:F,6) -> Ata e Notas Taquigráficas
A12: 14 | B12: 3 | C12: =VLOOKUP(B12,SessoesCPI!A:E,5) -> 44320 | D12: =VLOOKUP(B12,SessoesCPI!A:E,2) -> 3 | E12: =VLOOKUP(A12,DocumentosCPI!A:F,6) -> Convocação
A13: 15 | B13: 3 | C13: =VLOOKUP(B13,SessoesCPI!A:E,5) -> 44320 | D13: =VLOOKUP(B13,SessoesCPI!A:E,2) -> 3 | E13: =VLOOKUP(A13,DocumentosCPI!A:F,6) -> Resultado
... A433: 435 | B433: 76 | C433: =VLOOKUP(B433,SessoesCPI!A:E,5) -> 44495 | D433: =VLOOKUP(B433,SessoesCPI!A:E,2) -> 69 | E433: =VLOOKUP(A433,DocumentosCPI!A:F,6) -> 0

Sheet MateriasJornais
A1: Jor_Id | B1: Jor_Data | C1: Jor_Titulo | D1: Jor_Jornal | E1: Jor_Link | F1: Jor_Desc | G1: Jor_Autores | H1: Jor_DataUp | I1: Jor_FileName | J1: JorDescricao
A2: 31 | B2: 44212.535 | C2: Randolfe Rodrigues apresenta CPI para investigar crise do oxigênio no AM | D2: Congresso em Foco | E2: https://congressoemfoco.uol.com.br/area/governo/randolfe-cpi-oxigenio-am/ | F2: NA | G2: Guilherme Mendes | H2: 44212.54 | I2: 2021-01-16_12h51 - Congresso em Foco - Randolfe Rodrigues apresenta CPI para investi.pdf | J2: =Tb_MateriasJornais[[#This Row],[Jor_Jornal]]&" - "&Tb_MateriasJornais[[#This Row],[Jor_Titulo]]&" - "&TEXT(Tb_MateriasJornais[[#This Row],[Jor_Data]],"dd/mm/aaaa") -> Congresso em Foco - Randolfe Rodrigues apresenta CPI para investigar crise do oxigênio no AM - 16/01/2021
A3: 1101 | B3: 44214.429 | C3: Maia diz que coragem de Bolsonaro não é tão grande para negar Coronavac e que Pazuello fez papelão | D3: FolhaSP | E3: https://www1.folha.uol.com.br/equilibrioesaude/2021/01/maia-diz-que-coragem-de-bolsonaro-nao-e-tao-grande-para-negar-coronavac-e-que-pazuello-fez-papelao.shtml | F3: Presidente da Câmara diz que é inevitável abertura de CPI para investigar a atuação do Ministério da Saúde na pandemia | G3: Gustavo Uribe | I3: 2021-01-18_10h18 - FolhaSP - Maia diz que coragem de Bolsonaro não é tão g.pdf | J3: =Tb_MateriasJornais[[#This Row],[Jor_Jornal]]&" - "&Tb_MateriasJornais[[#This Row],[Jor_Titulo]]&" - "&TEXT(Tb_MateriasJornais[[#This Row],[Jor_Data]],"dd/mm/aaaa") -> FolhaSP - Maia diz que coragem de Bolsonaro não é tão grande para negar Coronavac e que Pazuello fez papelão - 18/01/2021
A4: 866 | B4: 44215.882 | C4: Pedido coletivo de impeachment vai incluir colapso por falta de oxigênio no Pará | D4: Estadão | E4: https://politica.estadao.com.br/noticias/geral,pedido-coletivo-de-impeachment-vai-incluir-colapso-por-falta-de-oxigenio-no-para,70003587170 | F4: Formulada por Rede, PSB, PT, PCdoB e PDT, peça deverá ser entregue ainda essa semana | G4: Paula Reverbel | H4: 44216.943 | I4: 2021-01-19_21h10 - Estadão - Pedido coletivo de impeachment vai incluir co.pdf | J4: =Tb_MateriasJornais[[#This Row],[Jor_Jornal]]&" - "&Tb_MateriasJornais[[#This Row],[Jor_Titulo]]&" - "&TEXT(Tb_MateriasJornais[[#This Row],[Jor_Data]],"dd/mm/aaaa") -> Estadão - Pedido coletivo de impeachment vai incluir colapso por falta de oxigênio no Pará - 19/01/2021
A5: 1100 | B5: 44222.475 | C5: Movimentos de oposição convocam megacarreata contra Bolsonaro e decidem apoiar CPI da pandemia | D5: FolhaSP | E5: https://www1.folha.uol.com.br/colunas/painel/2021/01/movimentos-de-oposicao-convocam-megacarreata-contra-bolsonaro-e-decidem-apoiar-cpi-da-pandemia.shtml | F5: Ideia é fazer manifestações em 21 de fevereiro; MST, MTST e centrais sindicais participaram de deliberação | G5: Folha de S.Paulo | H5: 44222.8 | I5: 2021-01-26_11h24 - FolhaSP - Movimentos de oposição convocam megacarreata .pdf | J5: =Tb_MateriasJornais[[#This Row],[Jor_Jornal]]&" - "&Tb_MateriasJornais[[#This Row],[Jor_Titulo]]&" - "&TEXT(Tb_MateriasJornais[[#This Row],[Jor_Data]],"dd/mm/aaaa") -> FolhaSP - Movimentos de oposição convocam megacarreata contra Bolsonaro e decidem apoiar CPI da pandemia - 26/01/2021
A6: 1099 | B6: 44222.708 | C6: Centrão vira fiel da balança sobre permanência de Pazuello na Saúde | D6: FolhaSP | E6: https://www1.folha.uol.com.br/equilibrioesaude/2021/01/centrao-vira-fiel-da-balanca-sobre-permanencia-de-pazuello-na-saude.shtml | F6: No Planalto, ganha força defesa de que Bolsonaro sacrifique ministro para evitar ser culpado por atraso nas vacinas e colapso em Manaus | G6: Gustavo Uribe|Julia Chaib | I6: 2021-01-26_17h00 - FolhaSP - Centrão vira fiel da balança sobre permanênci.pdf | J6: =Tb_MateriasJornais[[#This Row],[Jor_Jornal]]&" - "&Tb_MateriasJornais[[#This Row],[Jor_Titulo]]&" - "&TEXT(Tb_MateriasJornais[[#This Row],[Jor_Data]],"dd/mm/aaaa") -> FolhaSP - Centrão vira fiel da balança sobre permanência de Pazuello na Saúde - 26/01/2021
A7: 1098 | B7: 44223.401 | C7: Lira resiste a criar CPI da Covid e diz que pandemia não pode ser motivo de embate político | D7: FolhaSP | E7: https://www1.folha.uol.com.br/poder/2021/01/lira-resiste-a-criar-cpi-da-covid-e-diz-que-pandemia-nao-pode-ser-motivo-de-embate-politico.shtml | F7: Candidato de Bolsonaro ao comando da Câmara critica ainda politização da vacina e 'dos remédios' | G7: Danielle Brant | H7: 44223.426 | I7: 2021-01-27_09h37 - FolhaSP - Lira resiste a criar CPI da Covid e diz que p.pdf | J7: =Tb_MateriasJornais[[#This Row],[Jor_Jornal]]&" - "&Tb_MateriasJornais[[#This Row],[Jor_Titulo]]&" - "&TEXT(Tb_MateriasJornais[[#This Row],[Jor_Data]],"dd/mm/aaaa") -> FolhaSP - Lira resiste a criar CPI da Covid e diz que pandemia não pode ser motivo de embate político - 27/01/2021
A8: 867 | B8: 44224.208 | C8: Candidatos governistas, Arthur Lira e Rodrigo Pacheco prometem barrar CPIs que ameacem Bolsonaro | D8: Estadão | E8: https://politica.estadao.com.br/noticias/geral,candidatos-governistas-lira-e-pacheco-prometem-barrar-cpis,70003596603 | F8: Na Câmara e no Senado, apoiados pelo presidente devem atuar contra comissões com potencial de atingir o Palácio do Planalto, como a que apura o inquérito das Fake News | G8: Vinícius Valfré | H8: 44224.622 | I8: 2021-01-28_05h00 - Estadão - Candidatos governistas, Arthur Lira e Rodrigo.pdf | J8: =Tb_MateriasJornais[[#This Row],[Jor_Jornal]]&" - "&Tb_MateriasJornais[[#This Row],[Jor_Titulo]]&" - "&TEXT(Tb_MateriasJornais[[#This Row],[Jor_Data]],"dd/mm/aaaa") -> Estadão - Candidatos governistas, Arthur Lira e Rodrigo Pacheco prometem barrar CPIs que ameacem Bolsonaro - 28/01/2021
A9: 1102 | B9: 44224.584 | C9: Governista, Lira contradiz Bolsonaro e afirma que ninguém interfere na presidência da Câmara | D9: FolhaSP | E9: https://www1.folha.uol.com.br/poder/2021/01/governista-lira-contradiz-bolsonaro-e-afirma-que-ninguem-interfere-na-presidencia-da-camara.shtml | F9: Deputado do PP tem o apoio do Planalto na disputa; nesta quarta (27), presidente afirmou que, 'se Deus quiser', vai influir na eleição | G9: Danielle Brant | I9: 2021-01-28_14h01 - FolhaSP - Governista, Lira contradiz Bolsonaro e afirma.pdf | J9: =Tb_MateriasJornais[[#This Row],[Jor_Jornal]]&" - "&Tb_MateriasJornais[[#This Row],[Jor_Titulo]]&" - "&TEXT(Tb_MateriasJornais[[#This Row],[Jor_Data]],"dd/mm/aaaa") -> FolhaSP - Governista, Lira contradiz Bolsonaro e afirma que ninguém interfere na presidência da Câmara - 28/01/2021
A10: 868 | B10: 44225.688 | C10: Partidos fazem mutirão na Câmara para criar CPI da Pandemia | D10: Estadão | E10: https://politica.estadao.com.br/noticias/geral,partidos-fazem-mutirao-na-camara-para-criar-cpi-da-pandemia,70003598767 | F10: Se 171 assinaturas forem coletadas, Maia pode autorizar comissão na segunda-feira | G10: Camila Turtelli e Vinícius Valfré | H10: 44225.689 | I10: 2021-01-29_16h30 - Estadão - Partidos fazem mutirão na Câmara para criar C.pdf | J10: =Tb_MateriasJornais[[#This Row],[Jor_Jornal]]&" - "&Tb_MateriasJornais[[#This Row],[Jor_Titulo]]&" - "&TEXT(Tb_MateriasJornais[[#This Row],[Jor_Data]],"dd/mm/aaaa") -> Estadão - Partidos fazem mutirão na Câmara para criar CPI da Pandemia - 29/01/2021
A11: 1111 | B11: 44228.833 | C11: Líder do centrão, Lira é eleito presidente da Câmara após interferência de Bolsonaro | D11: FolhaSP | E11: https://www1.folha.uol.com.br/poder/2021/02/lider-do-centrao-lira-e-eleito-presidente-da-camara-apos-interferencia-de-bolsonaro.shtml | F11: Deputado do PP derrota grupo de Rodrigo Maia; alagoano já mostrou resistência a aceitar processo de impeachment e abrir CPI da Covid | G11: Danielle Brant|Ranier Bragon|Julia Chaib|Gustavo Uribe|Raquel Lopes | H11: 44228.903 | I11: 2021-02-01_19h59 - FolhaSP - Líder do centrão, Lira é eleito presidente da.pdf | J11: =Tb_MateriasJornais[[#This Row],[Jor_Jornal]]&" - "&Tb_MateriasJornais[[#This Row],[Jor_Titulo]]&" - "&TEXT(Tb_MateriasJornais[[#This Row],[Jor_Data]],"dd/mm/aaaa") -> FolhaSP - Líder do centrão, Lira é eleito presidente da Câmara após interferência de Bolsonaro - 01/02/2021
A12: 869 | B12: 44228.96 | C12: Com apoio de Bolsonaro, Arthur Lira é eleito presidente da Câmara | D12: Estadão | E12: https://politica.estadao.com.br/noticias/geral,com-apoio-de-bolsonaro-arthur-lira-e-eleito-presidente-da-camara,70003602220 | F12: Líder do Centrão obtém 302 votos e derrota candidato de Rodrigo Maia, Baleia Rossi | G12: Vinícius Valfré, Felipe Frazão, Camila Turtelli e Vera Rosa | H12: 44228.97 | I12: 2021-02-01_23h03 - Estadão - Com apoio de Bolsonaro, Arthur Lira é eleito .pdf | J12: =Tb_MateriasJornais[[#This Row],[Jor_Jornal]]&" - "&Tb_MateriasJornais[[#This Row],[Jor_Titulo]]&" - "&TEXT(Tb_MateriasJornais[[#This Row],[Jor_Data]],"dd/mm/aaaa") -> Estadão - Com apoio de Bolsonaro, Arthur Lira é eleito presidente da Câmara - 01/02/2021
A13: 870 | B13: 44228.983 | C13: Quem é Arthur Lira, novo presidente da Câmara dos Deputados | D13: Estadão | E13: https://politica.estadao.com.br/noticias/geral,quem-e-arthur-lira-novo-presidente-da-camara-dos-deputados,70003602249 | F13: Apoiado por Bolsonaro, deputado é líder do Centrão e era amigo de Eduardo Cunha | G13: Redação | H13: 44229.485 | I13: 2021-02-01_23h36 - Estadão - Quem é Arthur Lira, novo presidente da Câmara.pdf | J13: =Tb_MateriasJornais[[#This Row],[Jor_Jornal]]&" - "&Tb_MateriasJornais[[#This Row],[Jor_Titulo]]&" - "&TEXT(Tb_MateriasJornais[[#This Row],[Jor_Data]],"dd/mm/aaaa") -> Estadão - Quem é Arthur Lira, novo presidente da Câmara dos Deputados - 01/02/2021
A14: 871 | B14: 44229.034 | C14: Apoiados por Bolsonaro, Lira e Pacheco vão comandar o Congresso | D14: Estadão | E14: https://politica.estadao.com.br/noticias/geral,apoiados-por-bolsonaro-lira-e-pacheco-vao-comandar-o-congresso,70003602285 | F14: Em disputas marcadas pela forte interferência do Planalto, Arthur Lira é eleito para a presidência da Câmara dos Deputados e Rodrigo Pacheco para o comando do Senado | G14: Felipe Frazão, Vinicius Valfré, Camila Turtelli, Daniel Weterman, Anne Warth e Vera Rosa | H14: 44229.512 | I14: 2021-02-02_00h49 - Estadão - Apoiados por Bolsonaro, Lira e Pacheco vão co.pdf | J14: =Tb_MateriasJornais[[#This Row],[Jor_Jornal]]&" - "&Tb_MateriasJornais[[#This Row],[Jor_Titulo]]&" - "&TEXT(Tb_MateriasJornais[[#This Row],[Jor_Data]],"dd/mm/aaaa") -> Estadão - Apoiados por Bolsonaro, Lira e Pacheco vão comandar o Congresso - 02/02/2021
A15: 1110 | B15: 44229.844 | C15: Após quase perder cargo, MDB do Senado ameaça retaliar ex-aliados na formação de comissões da Casa | D15: FolhaSP | E15: https://www1.folha.uol.com.br/colunas/painel/2021/02/apos-perder-na-camara-e-no-senado-e-travar-duelo-com-psd-mdb-do-senado-ameaca-retaliar-ex-aliados-em-comissoes.shtml | F15: Na Câmara, partido deve ficar sem lugar na Mesa Diretora; no Senado, mesmo com maior bancada, sigla quase perdeu vice-presidência | G15: Folha de S.Paulo | I15: 2021-02-02_20h15 - FolhaSP - Após quase perder cargo, MDB do Senado ameaça.pdf | J15: =Tb_MateriasJornais[[#This Row],[Jor_Jornal]]&" - "&Tb_MateriasJornais[[#This Row],[Jor_Titulo]]&" - "&TEXT(Tb_MateriasJornais[[#This Row],[Jor_Data]],"dd/mm/aaaa") -> FolhaSP - Após quase perder cargo, MDB do Senado ameaça retaliar ex-aliados na formação de comissões da Casa - 02/02/2021
A16: 1109 | B16: 44230.312 | C16: Lira e Pacheco definem pauta econômica como prioridade e cobram vacinação ágil; Bolsonaro fala em harmonia | D16: FolhaSP | E16: https://www1.folha.uol.com.br/poder/2021/02/lira-e-pacheco-definem-pauta-economica-como-prioridade-e-cobram-agilidade-na-vacinacao.shtml | F16: Presidentes concordaram em definir prazos para entrega de relatórios da reforma tributária e da PEC Emergencial | G16: Renato Machado|Danielle Brant|Daniel Carvalho | H16: 44230.37 | I16: 2021-02-03_07h29 - FolhaSP - Lira e Pacheco definem pauta econômica como p.pdf | J16: =Tb_MateriasJornais[[#This Row],[Jor_Jornal]]&" - "&Tb_MateriasJornais[[#This Row],[Jor_Titulo]]&" - "&TEXT(Tb_MateriasJornais[[#This Row],[Jor_Data]],"dd/mm/aaaa") -> FolhaSP - Lira e Pacheco definem pauta econômica como prioridade e cobram vacinação ágil; Bolsonaro fala em harmonia - 03/02/2021
A17: 872 | B17: 44230.595 | C17: Senador Randolfe Rodrigues diz já ter assinaturas para criar CPI da covid-19 | D17: Estadão | E17: https://politica.estadao.com.br/noticias/geral,senador-randolfe-rodrigues-diz-ja-ter-assinaturas-para-criar-cpi-da-covid-19,70003604013 | F17: Requerimento para abrir comissão de inquérito teve 27 assinaturas, segundo a assessoria do parlamentar; objetivo é apurar omissões do governo no enfrentamento da pandemia e crise no Amazonas | G17: Sofia Aguiar e Daniel Weterman | H17: 44230.857 | I17: 2021-02-03_14h17 - Estadão - Senador Randolfe Rodrigues diz já ter assinat.pdf | J17: =Tb_MateriasJornais[[#This Row],[Jor_Jornal]]&" - "&Tb_MateriasJornais[[#This Row],[Jor_Titulo]]&" - "&TEXT(Tb_MateriasJornais[[#This Row],[Jor_Data]],"dd/mm/aaaa") -> Estadão - Senador Randolfe Rodrigues diz já ter assinaturas para criar CPI da covid-19 - 03/02/2021
A18: 288 | B18: 44230.678 | C18: Senadores conseguem assinaturas para pedir criação de CPI da covid-19 | D18: Congresso em Foco | E18: https://congressoemfoco.uol.com.br/temas/saude/senadores-conseguem-assinaturas-para-pedir-criacao-de-cpi-da-covid-19/ | F18: NA | G18: Larissa Calixto | H18: 44230.678 | I18: 2021-02-03_16h16 - Congresso em Foco - Senadores conseguem assinaturas para pedir cr.pdf | J18: =Tb_MateriasJornais[[#This Row],[Jor_Jornal]]&" - "&Tb_MateriasJornais[[#This Row],[Jor_Titulo]]&" - "&TEXT(Tb_MateriasJornais[[#This Row],[Jor_Data]],"dd/mm/aaaa") -> Congresso em Foco - Senadores conseguem assinaturas para pedir criação de CPI da covid-19 - 03/02/2021
A19: 1108 | B19: 44231.478 | C19: Senadores reúnem assinaturas para criar CPI da Covid-19 | D19: FolhaSP | E19: https://www1.folha.uol.com.br/equilibrioesaude/2021/02/senadores-reunem-assinaturas-para-criar-cpi-da-covid-19.shtml | F19: Instalação da comissão agora depende do presidente da Casa, Rodrigo Pacheco (DEM-MG) | G19: Renato Machado | I19: 2021-02-04_11h29 - FolhaSP - Senadores reúnem assinaturas para criar CPI d.pdf | J19: =Tb_MateriasJornais[[#This Row],[Jor_Jornal]]&" - "&Tb_MateriasJornais[[#This Row],[Jor_Titulo]]&" - "&TEXT(Tb_MateriasJornais[[#This Row],[Jor_Data]],"dd/mm/aaaa") -> FolhaSP - Senadores reúnem assinaturas para criar CPI da Covid-19 - 04/02/2021
A20: 873 | B20: 44231.544 | C20: Oposição reúne as 27 assinaturas para abrir CPI da Covid no Senado | D20: Estadão | E20: https://politica.estadao.com.br/blogs/fausto-macedo/cpi-covid-19-senado-randolfe-rodrigues-jair-bolsonaro-eduardo-pazuello-ministerio-saude-governo-federal/ | F20: Documento já foi entregue à Secretaria-Geral da Mesa diretora da Casa nesta quinta (04) e vai ser apreciado por Rodrigo Pacheco | G20: Fausto Macedo | H20: 44231.593 | I20: 2021-02-04_13h03 - Estadão - Oposição reúne as 27 assinaturas para abrir C.pdf | J20: =Tb_MateriasJornais[[#This Row],[Jor_Jornal]]&" - "&Tb_MateriasJornais[[#This Row],[Jor_Titulo]]&" - "&TEXT(Tb_MateriasJornais[[#This Row],[Jor_Data]],"dd/mm/aaaa") -> Estadão - Oposição reúne as 27 assinaturas para abrir CPI da Covid no Senado - 04/02/2021
A21: 874 | B21: 44231.651 | C21: Senadores protocolam pedido de CPI da covid-19 para investigar omissão do governo | D21: Estadão | E21: https://politica.estadao.com.br/noticias/geral,senadores-protocolam-pedido-de-cpi-da-covid-19-para-investigar-omissao-do-governo,70003605300 | F21: Autor do pedido de CPI, Randolfe Rodrigues responsabiliza gestão Bolsonaro por colapso da Saúde no Amazonas; Pacheco diz que irá avaliar caso | G21: Sofia Aguiar | H21: 44231.745 | I21: =YEAR(B21)&"-"&TEXT(MONTH(B22),"00")&"-"&TEXT(DAY(B21),"00")&"_"&TEXT(HOUR(B21),"00")&"h"&TEXT(MINUTE(B21),"00")&" - "&D21&" - "&LEFT(C21,45)&".pdf" -> 2021-02-04_15h37 - Estadão - Senadores protocolam pedido de CPI da covid-1.pdf | J21: =Tb_MateriasJornais[[#This Row],[Jor_Jornal]]&" - "&Tb_MateriasJornais[[#This Row],[Jor_Titulo]]&" - "&TEXT(Tb_MateriasJornais[[#This Row],[Jor_Data]],"dd/mm/aaaa") -> Estadão - Senadores protocolam pedido de CPI da covid-19 para investigar omissão do governo - 04/02/2021
A22: 875 | B22: 44232.412 | C22: Governo tenta barrar CPI da Covid-19 no Senado | D22: Estadão | E22: https://politica.estadao.com.br/blogs/coluna-do-estadao/governo-tenta-barrar-cpi-da-covid-19-no-senado/ | G22: Coluna do Estadão | H22: 44232.473 | I22: =YEAR(B22)&"-"&TEXT(MONTH(B23),"00")&"-"&TEXT(DAY(B22),"00")&"_"&TEXT(HOUR(B22),"00")&"h"&TEXT(MINUTE(B22),"00")&" - "&D22&" - "&LEFT(C22,45)&".pdf" -> 2021-02-05_09h54 - Estadão - Governo tenta barrar CPI da Covid-19 no Senad.pdf | J22: =Tb_MateriasJornais[[#This Row],[Jor_Jornal]]&" - "&Tb_MateriasJornais[[#This Row],[Jor_Titulo]]&" - "&TEXT(Tb_MateriasJornais[[#This Row],[Jor_Data]],"dd/mm/aaaa") -> Estadão - Governo tenta barrar CPI da Covid-19 no Senado - 05/02/2021
A23: 876 | B23: 44233.167 | C23: É do presidente do Senado o protagonismo na coordenação da pauta prioritária | D23: Estadão | E23: https://economia.estadao.com.br/noticias/geral,e-do-presidente-do-senado-o-protagonismo-na-coordenacao-da-pauta-prioritaria,70003607092 | F23: Mineiramente, Rodrigo Pacheco cobrou a prorrogação do auxílio, organizou um acordo para a reforma tributária e prometeu rapidez para votar o Orçamento | G23: Adriana Fernandes* | H23: 44233.929 | I23: =YEAR(B23)&"-"&TEXT(MONTH(B24),"00")&"-"&TEXT(DAY(B23),"00")&"_"&TEXT(HOUR(B23),"00")&"h"&TEXT(MINUTE(B23),"00")&" - "&D23&" - "&LEFT(C23,45)&".pdf" -> 2021-02-06_04h00 - Estadão - É do presidente do Senado o protagonismo na c.pdf | J23: =Tb_MateriasJornais[[#This Row],[Jor_Jornal]]&" - "&Tb_MateriasJornais[[#This Row],[Jor_Titulo]]&" - "&TEXT(Tb_MateriasJornais[[#This Row],[Jor_Data]],"dd/mm/aaaa") -> Estadão - É do presidente do Senado o protagonismo na coordenação da pauta prioritária - 06/02/2021
A24: 1107 | B24: 44233.844 | C24: Eleição na Câmara e no Senado deixou Bolsonaro com centenas de dívidas | D24: FolhaSP | E24: https://www1.folha.uol.com.br/colunas/janiodefreitas/2021/02/eleicao-na-camara-e-no-senado-deixou-bolsonaro-com-centenas-de-dividas.shtml | F24: Não sendo vitória política, dívida é igual a cobrança, e cobrança em política é incerteza e instabilidade | G24: Folha de S.Paulo | I24: 2021-02-06_20h15 - FolhaSP - Eleição na Câmara e no Senado deixou Bolsonar.pdf | J24: =Tb_MateriasJornais[[#This Row],[Jor_Jornal]]&" - "&Tb_MateriasJornais[[#This Row],[Jor_Titulo]]&" - "&TEXT(Tb_MateriasJornais[[#This Row],[Jor_Data]],"dd/mm/aaaa") -> FolhaSP - Eleição na Câmara e no Senado deixou Bolsonaro com centenas de dívidas - 06/02/2021
A25: 1106 | B25: 44234.844 | C25: O dilema entre governabilidade e responsabilização | D25: FolhaSP | E25: https://www1.folha.uol.com.br/colunas/marcus-melo/2021/02/o-dilema-entre-governabilidade-e-responsabilizacao.shtml | F25: Alinhamento de casas legislativas ao Executivo facilita reformas, mas produz deficit de accountability | G25: Folha de S.Paulo | I25: 2021-02-07_20h15 - FolhaSP - O dilema entre governabilidade e responsabili.pdf | J25: =Tb_MateriasJornais[[#This Row],[Jor_Jornal]]&" - "&Tb_MateriasJornais[[#This Row],[Jor_Titulo]]&" - "&TEXT(Tb_MateriasJornais[[#This Row],[Jor_Data]],"dd/mm/aaaa") -> FolhaSP - O dilema entre governabilidade e responsabilização - 07/02/2021
A26: 12 | B26: 44238.38 | C26: Pazuello vai ao Senado para tentar barrar CPI da Covid-19 | D26: Congresso em Foco | E26: https://congressoemfoco.uol.com.br/area/governo/pazuello-vai-ao-senado-para-tentar-barrar-cpi-da-covid-19/ | F26: NA | G26: Congresso em Foco | H26: 44238.38 | I26: 2021-02-11_09h07 - Congresso em Foco - Pazuello vai ao Senado para tentar barrar CPI.pdf | J26: =Tb_MateriasJornais[[#This Row],[Jor_Jornal]]&" - "&Tb_MateriasJornais[[#This Row],[Jor_Titulo]]&" - "&TEXT(Tb_MateriasJornais[[#This Row],[Jor_Data]],"dd/mm/aaaa") -> Congresso em Foco - Pazuello vai ao Senado para tentar barrar CPI da Covid-19 - 11/02/2021
A27: 1105 | B27: 44238.587 | C27: Com vacinas em falta, Pazuello promete imunização geral contra Covid em 2021 | D27: FolhaSP | E27: https://www1.folha.uol.com.br/equilibrioesaude/2021/02/pazuello-diz-que-nao-tem-vacina-para-todos-mas-mesmo-assim-promete-imunizacao-geral-em-2021.shtml | F27: Segundo ministro, expectativa é vacinar 50% da população até junho e o restante até o fim do ano | G27: Natália Cancian|Renato Machado | H27: 44238.739 | I27: 2021-02-11_14h05 - FolhaSP - Com vacinas em falta, Pazuello promete imuniz.pdf | J27: =Tb_MateriasJornais[[#This Row],[Jor_Jornal]]&" - "&Tb_MateriasJornais[[#This Row],[Jor_Titulo]]&" - "&TEXT(Tb_MateriasJornais[[#This Row],[Jor_Data]],"dd/mm/aaaa") -> FolhaSP - Com vacinas em falta, Pazuello promete imunização geral contra Covid em 2021 - 11/02/2021
A28: 1104 | B28: 44238.657 | C28: Pazuello lembra derrotas da Alemanha em guerras e pede para não se abrir CPI como 'frente política' contra Covid | D28: FolhaSP | E28: https://www1.folha.uol.com.br/equilibrioesaude/2021/02/pazuello-lembra-derrotas-da-alemanha-em-guerras-e-pede-para-nao-se-abrir-cpi-como-frente-politica-contra-covid.shtml | F28: Segundo ministro da Saúde, abertura de comissão de inquérito poderia ocasionar mais mortes | G28: Renato Machado|Natália Cancian | H28: 44238.787 | I28: 2021-02-11_15h46 - FolhaSP - Pazuello lembra derrotas da Alemanha em guerr.pdf | J28: =Tb_MateriasJornais[[#This Row],[Jor_Jornal]]&" - "&Tb_MateriasJornais[[#This Row],[Jor_Titulo]]&" - "&TEXT(Tb_MateriasJornais[[#This Row],[Jor_Data]],"dd/mm/aaaa") -> FolhaSP - Pazuello lembra derrotas da Alemanha em guerras e pede para não se abrir CPI como 'frente política' contra Covid - 11/02/2021
A29: 877 | B29: 44238.678 | C29: Pressionado por ameaça de CPI, Pazuello diz ao Senado que toda a população será vacinada em 2021 | D29: Estadão | E29: https://saude.estadao.com.br/noticias/geral,pressionado-por-ameaca-de-cpi-pazuello-diz-ao-senado-que-toda-a-populacao-sera-vacinada-em-2021,70003613414 | F29: Ministro da Saúde participa de audiência com senadores nesta quinta-feira; versão mais recente do plano nacional de imunização não aponta um prazo para a vacinação da população | G29: Mateus Vargas | H29: 44238.878 | I29: =YEAR(B29)&"-"&TEXT(MONTH(B30),"00")&"-"&TEXT(DAY(B29),"00")&"_"&TEXT(HOUR(B29),"00")&"h"&TEXT(MINUTE(B29),"00")&" - "&D29&" - "&LEFT(C29,45)&".pdf" -> 2021-02-11_16h17 - Estadão - Pressionado por ameaça de CPI, Pazuello diz a.pdf | J29: =Tb_MateriasJornais[[#This Row],[Jor_Jornal]]&" - "&Tb_MateriasJornais[[#This Row],[Jor_Titulo]]&" - "&TEXT(Tb_MateriasJornais[[#This Row],[Jor_Data]],"dd/mm/aaaa") -> Estadão - Pressionado por ameaça de CPI, Pazuello diz ao Senado que toda a população será vacinada em 2021 - 11/02/2021
A30: 878 | B30: 44239.208 | C30: Pazuello derrapa e dá força à CPI da Covid-19 | D30: Estadão | E30: https://politica.estadao.com.br/blogs/coluna-do-estadao/pazuello-derrapa-e-da-forca-a-cpi-da-covid-19/ | G30: Coluna do Estadão | H30: 44239.432 | I30: =YEAR(B30)&"-"&TEXT(MONTH(B31),"00")&"-"&TEXT(DAY(B30),"00")&"_"&TEXT(HOUR(B30),"00")&"h"&TEXT(MINUTE(B30),"00")&" - "&D30&" - "&LEFT(C30,45)&".pdf" -> 2021-02-12_05h00 - Estadão - Pazuello derrapa e dá força à CPI da Covid-19.pdf | J30: =Tb_MateriasJornais[[#This Row],[Jor_Jornal]]&" - "&Tb_MateriasJornais[[#This Row],[Jor_Titulo]]&" - "&TEXT(Tb_MateriasJornais[[#This Row],[Jor_Data]],"dd/mm/aaaa") -> Estadão - Pazuello derrapa e dá força à CPI da Covid-19 - 12/02/2021
A31: 879 | B31: 44242.797 | C31: Com doses se esgotando, governadores e Congresso cobram Pazuello por mais vacinas | D31: Estadão | E31: https://saude.estadao.com.br/noticias/geral,com-doses-se-esgotando-governadores-e-congresso-cobram-pazuello-por-mais-vacinas,70003617537 | F31: Fórum dos Governadores se reúne com Pazuello na quarta-feira, 17; chefes dos Estados e do Distrito Federal vão cobrar, novamente, um cronograma para a entrega das doses | G31: Mateus Vargas | H31: 44242.804 | I31: =YEAR(B31)&"-"&TEXT(MONTH(B32),"00")&"-"&TEXT(DAY(B31),"00")&"_"&TEXT(HOUR(B31),"00")&"h"&TEXT(MINUTE(B31),"00")&" - "&D31&" - "&LEFT(C31,45)&".pdf" -> 2021-02-15_19h07 - Estadão - Com doses se esgotando, governadores e Congre.pdf | J31: =Tb_MateriasJornais[[#This Row],[Jor_Jornal]]&" - "&Tb_MateriasJornais[[#This Row],[Jor_Titulo]]&" - "&TEXT(Tb_MateriasJornais[[#This Row],[Jor_Data]],"dd/mm/aaaa") -> Estadão - Com doses se esgotando, governadores e Congresso cobram Pazuello por mais vacinas - 15/02/2021
A32: 1103 | B32: 44243.913 | C32: Com a corda no pescoço, general Pesadello tenta provar que vai trazer vacina | D32: FolhaSP | E32: https://www1.folha.uol.com.br/colunas/viniciustorres/2021/02/com-a-corda-no-pescoco-general-pesadello-tenta-provar-que-vai-trazer-vacina.shtml | F32: Prefeitos pedem a cabeça de Pazuello, governadores cobram vacinas e UTIs | G32: Vinicius Torres Freire | I32: 2021-02-11_21h55 - FolhaSP - Prefeitos pedem a cabeça de Pazuello, governadores.pdf | J32: =Tb_MateriasJornais[[#This Row],[Jor_Jornal]]&" - "&Tb_MateriasJornais[[#This Row],[Jor_Titulo]]&" - "&TEXT(Tb_MateriasJornais[[#This Row],[Jor_Data]],"dd/mm/aaaa") -> FolhaSP - Com a corda no pescoço, general Pesadello tenta provar que vai trazer vacina - 16/02/2021
A33: 880 | B33: 44245.76 | C33: Governo Bolsonaro age para barrar CPI da covid-19 no Senado | D33: Estadão | E33: https://politica.estadao.com.br/noticias/geral,governo-bolsonaro-age-para-barrar-cpi-da-covid-19-no-senado,70003620360 | F33: Líderes partidários concordaram em abrir comissão de acompanhamento, modalidade que teria menos poder do que órgão de investigação | G33: Daniel Weterman | H33: 44245.76 | I33: =YEAR(B33)&"-"&TEXT(MONTH(B34),"00")&"-"&TEXT(DAY(B33),"00")&"_"&TEXT(HOUR(B33),"00")&"h"&TEXT(MINUTE(B33),"00")&" - "&D33&" - "&LEFT(C33,45)&".pdf" -> 2021-02-18_18h15 - Estadão - Governo Bolsonaro age para barrar CPI da covi.pdf | J33: =Tb_MateriasJornais[[#This Row],[Jor_Jornal]]&" - "&Tb_MateriasJornais[[#This Row],[Jor_Titulo]]&" - "&TEXT(Tb_MateriasJornais[[#This Row],[Jor_Data]],"dd/mm/aaaa") -> Estadão - Governo Bolsonaro age para barrar CPI da covid-19 no Senado - 18/02/2021
A34: 881 | B34: 44249.208 | C34: De luto, Senado define futuro da CPI da Covid-19 | D34: Estadão | E34: https://politica.estadao.com.br/blogs/coluna-do-estadao/de-luto-senado-define-futuro-da-cpi-da-covid-19/ | G34: Mariana Carneiro | H34: 44249.465 | I34: =YEAR(B34)&"-"&TEXT(MONTH(B35),"00")&"-"&TEXT(DAY(B34),"00")&"_"&TEXT(HOUR(B34),"00")&"h"&TEXT(MINUTE(B34),"00")&" - "&D34&" - "&LEFT(C34,45)&".pdf" -> 2021-02-22_05h00 - Estadão - De luto, Senado define futuro da CPI da Covid.pdf | J34: =Tb_MateriasJornais[[#This Row],[Jor_Jornal]]&" - "&Tb_MateriasJornais[[#This Row],[Jor_Titulo]]&" - "&TEXT(Tb_MateriasJornais[[#This Row],[Jor_Data]],"dd/mm/aaaa") -> Estadão - De luto, Senado define futuro da CPI da Covid-19 - 22/02/2021
A35: 882 | B35: 44250.609 | C35: Maia defende CPI da Covid contra Bolsonaro e afirma que impeachment 'não tinha chance' | D35: Estadão | E35: https://politica.estadao.com.br/noticias/geral,maia-defende-cpi-da-covid-contra-bolsonaro-e-afirma-que-impeachment-nao-tinha-chance,70003625411 | F35: Segundo o ex-presidente da Câmara, eleição de Lira mostrou que não havia 'perna política' para abertura do processo | G35: Cássia Miranda | H35: 44250.635 | I35: =YEAR(B35)&"-"&TEXT(MONTH(B36),"00")&"-"&TEXT(DAY(B35),"00")&"_"&TEXT(HOUR(B35),"00")&"h"&TEXT(MINUTE(B35),"00")&" - "&D35&" - "&LEFT(C35,45)&".pdf" -> 2021-02-23_14h37 - Estadão - Maia defende CPI da Covid contra Bolsonaro e .pdf | J35: =Tb_MateriasJornais[[#This Row],[Jor_Jornal]]&" - "&Tb_MateriasJornais[[#This Row],[Jor_Titulo]]&" - "&TEXT(Tb_MateriasJornais[[#This Row],[Jor_Data]],"dd/mm/aaaa") -> Estadão - Maia defende CPI da Covid contra Bolsonaro e afirma que impeachment 'não tinha chance' - 23/02/2021
A36: 883 | B36: 44254.125 | C36: A urgência da CPI da pandemia | D36: Estadão | E36: https://opiniao.estadao.com.br/noticias/notas-e-informacoes,a-urgencia-da-cpi-da-pandemia,70003629746 | F36: Chamar às falas os responsáveis pelo desastre sanitário pode ser um lenitivo para o patológico descaso com a vida dos brasileiros | G36: Notas &amp; Informações | H36: 44254.125 | I36: =YEAR(B36)&"-"&TEXT(MONTH(B37),"00")&"-"&TEXT(DAY(B36),"00")&"_"&TEXT(HOUR(B36),"00")&"h"&TEXT(MINUTE(B36),"00")&" - "&D36&" - "&LEFT(C36,45)&".pdf" -> 2021-03-27_03h00 - Estadão - A urgência da CPI da pandemia.pdf | J36: =Tb_MateriasJornais[[#This Row],[Jor_Jornal]]&" - "&Tb_MateriasJornais[[#This Row],[Jor_Titulo]]&" - "&TEXT(Tb_MateriasJornais[[#This Row],[Jor_Data]],"dd/mm/aaaa") -> Estadão - A urgência da CPI da pandemia - 27/02/2021
A37: 884 | B37: 44256.208 | C37: É preciso parar esse cara', diz Tasso Jereissati ao defender CPI da Covid | D37: Estadão | E37: https://politica.estadao.com.br/noticias/geral,para-tasso-jereissati-cpi-e-teste-da-autonomia-de-pacheco,70003631618 | F37: Senador tucano cobra do presidente da Casa a instalação de comissão para apurar a conduta do governo na pandemia | G37: Daniel Weterman | H37: 44256.424 | I37: 2021-03-01_05h00 - Estadão - 'É preciso parar esse cara', diz Tasso Jereis.pdf | J37: =Tb_MateriasJornais[[#This Row],[Jor_Jornal]]&" - "&Tb_MateriasJornais[[#This Row],[Jor_Titulo]]&" - "&TEXT(Tb_MateriasJornais[[#This Row],[Jor_Data]],"dd/mm/aaaa") -> Estadão - É preciso parar esse cara', diz Tasso Jereissati ao defender CPI da Covid - 01/03/2021
A38: 1112 | B38: 44256.403 | C38: Lira descarta CPI de Covid agora e diz que não é hora de apontar culpados por erros | D38: FolhaSP | E38: https://www1.folha.uol.com.br/equilibrioesaude/2021/03/lira-descarta-cpi-de-covid-agora-e-diz-que-nao-e-hora-de-apontar-culpados-por-erros.shtml | F38: Líder do centrão defendeu que a prioridade deve ser imunizar a população e citou expectativa de compra de 140 milhões de doses de vacina até maio | G38: Danielle Brant | I38: 2021-03-01_09h40 - FolhaSP - Lira descarta CPI de Covid agora e diz que nã.pdf | J38: =Tb_MateriasJornais[[#This Row],[Jor_Jornal]]&" - "&Tb_MateriasJornais[[#This Row],[Jor_Titulo]]&" - "&TEXT(Tb_MateriasJornais[[#This Row],[Jor_Data]],"dd/mm/aaaa") -> FolhaSP - Lira descarta CPI de Covid agora e diz que não é hora de apontar culpados por erros - 01/03/2021
A39: 885 | B39: 44256.835 | C39: Rodrigo Pacheco: 'Instalar a CPI da Saúde agora seria contraproducente’ | D39: Estadão | E39: https://politica.estadao.com.br/noticias/geral,rodrigo-pacheco-instalar-a-cpi-da-saude-agora-seria-contraproducente,70003632601 | F39: Eleito com apoio do Planalto, presidente do Senado diz que comissão para apurar atuação do governo no combate à pandemia não teria como funcionar | G39: Pedro Venceslau | H39: 44256.912 | I39: 2021-03-01_20h02 - Estadão - Rodrigo Pacheco: 'Instalar a CPI da Saúde ago.pdf | J39: =Tb_MateriasJornais[[#This Row],[Jor_Jornal]]&" - "&Tb_MateriasJornais[[#This Row],[Jor_Titulo]]&" - "&TEXT(Tb_MateriasJornais[[#This Row],[Jor_Data]],"dd/mm/aaaa") -> Estadão - Rodrigo Pacheco: 'Instalar a CPI da Saúde agora seria contraproducente’ - 01/03/2021
A40: 13 | B40: 44256.933 | C40: Pressionado a instalar CPI da covid, Pacheco minimiza erros de Bolsonaro na pandemia | D40: Congresso em Foco | E40: https://congressoemfoco.uol.com.br/area/governo/entrevista-pacheco-sobre-bolsonaro/ | F40: NA | G40: Congresso em Foco | H40: 44256.936 | I40: 2021-03-01_22h23 - Congresso em Foco - Pressionado a instalar CPI da covid, Pacheco .pdf | J40: =Tb_MateriasJornais[[#This Row],[Jor_Jornal]]&" - "&Tb_MateriasJornais[[#This Row],[Jor_Titulo]]&" - "&TEXT(Tb_MateriasJornais[[#This Row],[Jor_Data]],"dd/mm/aaaa") -> Congresso em Foco - Pressionado a instalar CPI da covid, Pacheco minimiza erros de Bolsonaro na pandemia - 01/03/2021
...

Sheet Eventos
A1: Evento_Id | B1: Evento_Data | C1: Evento_Descricao | D1: Evento_AtorPrincipal
A2: 1 | B2: 44212 | C2: Apresentação do requerimento para criação da CPI | D2: Randolfe Rodrigues
A3: 2 | B3: 44228 | C3: Eleição para Presidência da CD | D3: Athur Lira
A4: 3 | B4: 44228 | C4: Eleição para Presidência do SF | D4: Rodrigo Pacheco
A5: 4 | B5: 44229 | C5: CPI atinge número suficiente de assinaturas | D5: Randolfe Rodrigues
A6: 5 | B6: 44230 | C6: Pacheco e Lira divulgaram carta na qual divulgam que o Congresso deve ser neste momento “sinônimo de solução, e não de problemas" | D6: Athur Lira e Rodrigo Pacheco
A7: 21 | B7: 44230 | C7: Governo exclui de MP da Vacina item que facilitava negociação com a Pfizer | D7: Governo
A8: 6 | B8: 44231 | C8: Protocolado Pedido de Abertura de CPI | D8: Randolfe Rodrigues
A9: 11 | B9: 44235 | C9: Morre Senador José Maranhão (MDB-PB) | D9: José Maranhão
A10: 8 | B10: 44238 | C10: Eduardo Pazuello participa de audiência do SF | D10: Eduardo Pazuello
A11: 9 | B11: 44242 | C11: Processo de vacinação claudica | D11: Eduardo Pazuello
A12: 10 | B12: 44245 | C12: Senado cria comissão de acompanhamento como alternativa à CPI | D12: Rodrigo Pacheco
A13: 12 | B13: 44249 | C13: A mãe de Jayme Campos (DEM-MT) morre de Covid | D13: Jayme Campos
... A24: 25 | B24: 44273 | C24: Explode o medo da pandemia | D24: .
A25: 28 | B25: 44273 | C25: Rejeição ao governo bate recorde
A26: 20 | B26: 44274 | C26: Contrato para compra de 100 milhões de doses da vacina da Pfizer e 38 milhões da Janssen | D26: Eduardo Pazuello
A27: 26 | B27: 44274 | C27: Bolsonaro entra com ação no STF contra medidas de lockdown propostas pelos governos estaduais da BA, DF e RS. | D27: Jair Bolsonaro
A28: 23 | B28: 44275 | C28: Morre Senador Major Olimpio | D28: Major Olimpio
A29: 31 | B29: 44278 | C29: Faz um pronunciamento oficial na TV dizendo que 2021 será "o ano da vacinação" | D29: Jair Bolsonaro
A30: 30 | B30: 44279 | C30: Criado um Comitê Nacional para discutir medidas de combate à pandemia do coronavírus | D30: Jair Bolsonaro
A31: 32 | B31: 44284 | C31: Flávia Arruda é nomeada para a Secretaria de Governo (marco do "orçamento secreto") | D31: Flávia Arruda
A32: 34 | B32: 44292 | C32: Brasil atinge o número de 4000 mortes por dia de Covid
A33: 33 | B33: 44294 | C33: O Ministro do STF Luís Barroso determina a abertura da CPI da Covid | D33: Luís Roberto Barroso
A34: 7 | B34: 44299 | C34: Apresentação do requerimento para CPI que apura Estados e Municípios | D34: Eduardo Girão

Sheet Eventos_Fontes
A1: Evento_Id | B1: Fonte_Tabela | C1: Fonte_Id | D1: Evento_Data | E1: Evento_Descricao | F1: Fonte_Nome | G1: Fonte_Data
A2: 1 | B2: MateriasJornais | C2: 31 | D2: =VLOOKUP(A2,Eventos!A:D,2) -> 44212 | E2: =VLOOKUP(A2,Eventos!A:D,3) -> Apresentação do requerimento para criação da CPI | F2: {=_xlfn.IFS( Tb_Eventos_Fontes[[#This Row],[Fonte_Tabela]]="MateriasJornais", _xlfn.XLOOKUP(Tb_Eventos_Fontes[[#This Row],[Fonte_Id]],Tb_MateriasJornais[Jor_Id],Tb_MateriasJornais[JorDescricao]), Tb_Eventos_Fontes[[#This Row],[Fonte_Tabela]]="DocumentosCPI", _xlfn.XLOOKUP(Tb_Eventos_Fontes[[#This Row],[Fonte_Id]],Tb_DocumentosCPI[DocCPI_Id],Tb_DocumentosCPI[DocCPI_Nome]), Tb_Eventos_Fontes[[#This Row],[Fonte_Tabela]]="Sites", _xlfn.XLOOKUP(Tb_Eventos_Fontes[[#This Row],[Fonte_Id]],Tb_Sites[Site_Id],Tb_Sites[Site_Nome]), TRUE, "Erro")} -> Congresso em Foco - Randolfe Rodrigues apresenta CPI para investigar crise do oxigênio no AM - 16/01/2021 | G2: {=_xlfn.IFS( Tb_Eventos_Fontes[[#This Row],[Fonte_Tabela]]="MateriasJornais", _xlfn.XLOOKUP(Tb_Eventos_Fontes[[#This Row],[Fonte_Id]],Tb_MateriasJornais[Jor_Id],Tb_MateriasJornais[Jor_Data]), Tb_Eventos_Fontes[[#This Row],[Fonte_Tabela]]="DocumentosCPI", _xlfn.XLOOKUP(Tb_Eventos_Fontes[[#This Row],[Fonte_Id]],Tb_DocumentosCPI[DocCPI_Id],Tb_DocumentosCPI[DocCPI_Data]), Tb_Eventos_Fontes[[#This Row],[Fonte_Tabela]]="Sites", "Não Disp", TRUE, "Erro")} -> 44212.535
A3: 1 | B3: DocumentosCPI | C3: 1 | D3: =VLOOKUP(A3,Eventos!A:D,2) -> 44212 | E3: =VLOOKUP(A3,Eventos!A:D,3) -> Apresentação do requerimento para criação da CPI | F3: {=_xlfn.IFS( Tb_Eventos_Fontes[[#This Row],[Fonte_Tabela]]="MateriasJornais", _xlfn.XLOOKUP(Tb_Eventos_Fontes[[#This Row],[Fonte_Id]],Tb_MateriasJornais[Jor_Id],Tb_MateriasJornais[JorDescricao]), Tb_Eventos_Fontes[[#This Row],[Fonte_Tabela]]="DocumentosCPI", _xlfn.XLOOKUP(Tb_Eventos_Fontes[[#This Row],[Fonte_Id]],Tb_DocumentosCPI[DocCPI_Id],Tb_DocumentosCPI[DocCPI_Nome]), Tb_Eventos_Fontes[[#This Row],[Fonte_Tabela]]="Sites", _xlfn.XLOOKUP(Tb_Eventos_Fontes[[#This Row],[Fonte_Id]],Tb_Sites[Site_Id],Tb_Sites[Site_Nome]), TRUE, "Erro")} -> Requerimento N° 1371, DE 2021 | G3: {=_xlfn.IFS( Tb_Eventos_Fontes[[#This Row],[Fonte_Tabela]]="MateriasJornais", _xlfn.XLOOKUP(Tb_Eventos_Fontes[[#This Row],[Fonte_Id]],Tb_MateriasJornais[Jor_Id],Tb_MateriasJornais[Jor_Data]), Tb_Eventos_Fontes[[#This Row],[Fonte_Tabela]]="DocumentosCPI", _xlfn.XLOOKUP(Tb_Eventos_Fontes[[#This Row],[Fonte_Id]],Tb_DocumentosCPI[DocCPI_Id],Tb_DocumentosCPI[DocCPI_Data]), Tb_Eventos_Fontes[[#This Row],[Fonte_Tabela]]="Sites", "Não Disp", TRUE, "Erro")} -> 44211
A4: 2 | B4: MateriasJornais | C4: 1111 | D4: =VLOOKUP(A4,Eventos!A:D,2) -> 44228 | E4: =VLOOKUP(A4,Eventos!A:D,3) -> Eleição para Presidência da CD | F4: {=_xlfn.IFS( Tb_Eventos_Fontes[[#This Row],[Fonte_Tabela]]="MateriasJornais", _xlfn.XLOOKUP(Tb_Eventos_Fontes[[#This Row],[Fonte_Id]],Tb_MateriasJornais[Jor_Id],Tb_MateriasJornais[JorDescricao]), Tb_Eventos_Fontes[[#This Row],[Fonte_Tabela]]="DocumentosCPI", _xlfn.XLOOKUP(Tb_Eventos_Fontes[[#This Row],[Fonte_Id]],Tb_DocumentosCPI[DocCPI_Id],Tb_DocumentosCPI[DocCPI_Nome]), Tb_Eventos_Fontes[[#This Row],[Fonte_Tabela]]="Sites", _xlfn.XLOOKUP(Tb_Eventos_Fontes[[#This Row],[Fonte_Id]],Tb_Sites[Site_Id],Tb_Sites[Site_Nome]), TRUE, "Erro")} -> FolhaSP - Líder do centrão, Lira é eleito presidente da Câmara após interferência de Bolsonaro - 01/02/2021 | G4: {=_xlfn.IFS( Tb_Eventos_Fontes[[#This Row],[Fonte_Tabela]]="MateriasJornais", _xlfn.XLOOKUP(Tb_Eventos_Fontes[[#This Row],[Fonte_Id]],Tb_MateriasJornais[Jor_Id],Tb_MateriasJornais[Jor_Data]), Tb_Eventos_Fontes[[#This Row],[Fonte_Tabela]]="DocumentosCPI", _xlfn.XLOOKUP(Tb_Eventos_Fontes[[#This Row],[Fonte_Id]],Tb_DocumentosCPI[DocCPI_Id],Tb_DocumentosCPI[DocCPI_Data]), Tb_Eventos_Fontes[[#This Row],[Fonte_Tabela]]="Sites", "Não Disp", TRUE, "Erro")} -> 44228.833
A5: 2 | B5: MateriasJornais | C5: 869 | D5: =VLOOKUP(A5,Eventos!A:D,2) -> 44228 | E5: =VLOOKUP(A5,Eventos!A:D,3) -> Eleição para Presidência da CD | F5: {=_xlfn.IFS( Tb_Eventos_Fontes[[#This Row],[Fonte_Tabela]]="MateriasJornais", _xlfn.XLOOKUP(Tb_Eventos_Fontes[[#This Row],[Fonte_Id]],Tb_MateriasJornais[Jor_Id],Tb_MateriasJornais[JorDescricao]), Tb_Eventos_Fontes[[#This Row],[Fonte_Tabela]]="DocumentosCPI", _xlfn.XLOOKUP(Tb_Eventos_Fontes[[#This Row],[Fonte_Id]],Tb_DocumentosCPI[DocCPI_Id],Tb_DocumentosCPI[DocCPI_Nome]), Tb_Eventos_Fontes[[#This Row],[Fonte_Tabela]]="Sites", _xlfn.XLOOKUP(Tb_Eventos_Fontes[[#This Row],[Fonte_Id]],Tb_Sites[Site_Id],Tb_Sites[Site_Nome]), TRUE, "Erro")} -> Estadão - Com apoio de Bolsonaro, Arthur Lira é eleito presidente da Câmara - 01/02/2021 | G5: {=_xlfn.IFS( Tb_Eventos_Fontes[[#This Row],[Fonte_Tabela]]="MateriasJornais", _xlfn.XLOOKUP(Tb_Eventos_Fontes[[#This Row],[Fonte_Id]],Tb_MateriasJornais[Jor_Id],Tb_MateriasJornais[Jor_Data]), Tb_Eventos_Fontes[[#This Row],[Fonte_Tabela]]="DocumentosCPI", _xlfn.XLOOKUP(Tb_Eventos_Fontes[[#This Row],[Fonte_Id]],Tb_DocumentosCPI[DocCPI_Id],Tb_DocumentosCPI[DocCPI_Data]), Tb_Eventos_Fontes[[#This Row],[Fonte_Tabela]]="Sites", "Não Disp", TRUE, "Erro")} -> 44228.96
A6: 3 | B6: MateriasJornais | C6: 871 | D6: =VLOOKUP(A6,Eventos!A:D,2) -> 44228 | E6: =VLOOKUP(A6,Eventos!A:D,3) -> Eleição para Presidência do SF | F6: {=_xlfn.IFS( Tb_Eventos_Fontes[[#This Row],[Fonte_Tabela]]="MateriasJornais", _xlfn.XLOOKUP(Tb_Eventos_Fontes[[#This Row],[Fonte_Id]],Tb_MateriasJornais[Jor_Id],Tb_MateriasJornais[JorDescricao]), Tb_Eventos_Fontes[[#This Row],[Fonte_Tabela]]="DocumentosCPI", _xlfn.XLOOKUP(Tb_Eventos_Fontes[[#This Row],[Fonte_Id]],Tb_DocumentosCPI[DocCPI_Id],Tb_DocumentosCPI[DocCPI_Nome]), Tb_Eventos_Fontes[[#This Row],[Fonte_Tabela]]="Sites", _xlfn.XLOOKUP(Tb_Eventos_Fontes[[#This Row],[Fonte_Id]],Tb_Sites[Site_Id],Tb_Sites[Site_Nome]), TRUE, "Erro")} -> Estadão - Apoiados por Bolsonaro, Lira e Pacheco vão comandar o Congresso - 02/02/2021 | G6: {=_xlfn.IFS( Tb_Eventos_Fontes[[#This Row],[Fonte_Tabela]]="MateriasJornais", _xlfn.XLOOKUP(Tb_Eventos_Fontes[[#This Row],[Fonte_Id]],Tb_MateriasJornais[Jor_Id],Tb_MateriasJornais[Jor_Data]), Tb_Eventos_Fontes[[#This Row],[Fonte_Tabela]]="DocumentosCPI", _xlfn.XLOOKUP(Tb_Eventos_Fontes[[#This Row],[Fonte_Id]],Tb_DocumentosCPI[DocCPI_Id],Tb_DocumentosCPI[DocCPI_Data]), Tb_Eventos_Fontes[[#This Row],[Fonte_Tabela]]="Sites", "Não Disp", TRUE, "Erro")} -> 44229.034
